Workbook

Sheet Récapitulatif
B3: Vendeurs
B4: Total | C4: =ROWS('Parcours vendeurs'!A3:A998)-COUNTBLANK('Parcours vendeurs'!A3:A998) -> 0
B5: Ayant utilisé l’application | C5: =COUNTIF('Historique des connections'!E3:E1000,">0") -> 0 | D5: =C5/C4 -> #DIV/0!
B6: Nombre de connexions moyennes / vendeur utilisateur | C6: =SUM('Historique des connections'!E3:E10000)/C5 -> #DIV/0!
B7: Nombre de pages vues | C7: =SUM('Parcours vendeurs'!F3:F998) -> 0
B8: Nombre de pages vues par session | C8: =C7/SUM('Historique des connections'!E3:E10000) -> #DIV/0!
B9: Nombre de programmes vus | C9: ='Parcours vendeurs'!K2 -> 0
B10: Nombre de lots vus | C10: ='Parcours vendeurs'!P2 -> 0
B12: Prospect autonome
B13: Total | C13: =ROWS('Parcours Clients'!A4:A999)-COUNTBLANK('Parcours Clients'!A4:A999)-C35 -> 0
B14: Nombre de sessions | C14: =C13+'Parcours Clients'!G3 -> 0
B15: Nombre de prospects qui reviennent | C15: =COUNTIF('Parcours Clients'!G4:G999,">0") -> 0 | D15: =C15/C13 -> #DIV/0! | E15: des prospects font une deuxième visite sur l'appli
B16: nb connexion par prospects | C16: =C14/C13 -> #DIV/0!
B17: nombre de page vues | C17: ='Parcours Clients'!H3 -> 0
B18: nombre de pages vues par sessions | C18: =C17/C14 -> #DIV/0!
B19: Nombre de pages vues par prospect | C19: =C17/C13 -> #DIV/0!
B20: Nombre de prospects qui voient un programme | C20: =COUNTIF('Parcours Clients'!M4:M999,">0") -> 0 | D20: =C20/C13 -> #DIV/0! | E20: des prospects visitent au moins 1 programme
B21: Nombre de programmes vus | C21: ='Parcours Clients'!M3 -> 0
B22: Nombre de programmes vus par prospect | C22: =C21/C20 -> #DIV/0! | E22: programmes consultés par utilisateur actif
B23: Nombre d'interaction pages programmes | C23: ='Parcours Clients'!AG3 -> 0
B24: Nombre de parcours coach | C24: ='Parcours Clients'!I3 -> 0 | D24: =C24/C20 -> #DIV/0! | E24: des visiteurs actifs remplissent le parcours coach | K24: =C24/C13 -> #DIV/0! | L24: des parcours initiés sont hyper qualifiés par le parcours coach
B25: Nombre de lot consultés | C25: ='Parcours Clients'!R3 -> 0
B26: Nombre de prospects qui voient un lot | C26: =COUNTIF('Parcours Clients'!R4:R999,">0") -> 0 | D26: =C26/C20 -> #DIV/0! | E26: des visiteurs actifs consulte au moins 1 lot
B27: Nombre de lot consultés par visiteur actif | C27: =C25/C26 -> #DIV/0! | E27: Un visiteur actif consulte en moyenne 3 lots
B28: Nombre d'interaction pages lots | C28: ='Parcours Clients'!AH3 -> 0
B29: Nombre de rendez-vous pris | C29: ='Parcours Clients'!W3 -> 0
B30: Nombre de prospects qui prennent un rdv | C30: =COUNTIF('Parcours Clients'!W4:W999,">0") -> 0 | D30: =C30/C13 -> #DIV/0! | E30: des visiteurs prennent un rdv avec un conseiller
B31: Nombre de propositions commerciales envoyées | C31: ='Parcours Clients'!E3 -> 0
B32: Nombre de répondant aux questions intérêt | C32: =COUNTIF('Parcours Clients'!AF4:AF999,"oui") -> 0 | D32: =C32/C13 -> #DIV/0! | E32: des prospects donnent des informations aux questions "intérêt"
B34: Prospect lié à un vendeur (contact)
B35: Total | C35: =COUNTIF('Parcours Clients'!$AI$4:$AI$999,"oui") -> 0
B36: nombre de page vues | C36: ='Parcours Clients'!H2 -> 0
B37: nombre de pages vues par prospect | C37: =C36/C35 -> #DIV/0!
B38: Nombre de programme vus | C38: ='Parcours Clients'!M2 -> 0
B39: Nombre de programmes vus par prospect | C39: =C38/C35 -> #DIV/0! | E39: programmes consultés par prospect
B40: Nombre d'interaction pages programmes | C40: ='Parcours Clients'!AG68 -> 0
B41: Nombre de parcours coach | C41: ='Parcours Clients'!I2 -> 0 | D41: =C41/C35 -> #DIV/0! | E41: des vendeurs font entrer les clients dans le parcours coach
B42: Nombre de lot consultés | C42: ='Parcours Clients'!R2 -> 0
B43: Nombre d'interaction pages lots | C43: ='Parcours Clients'!AH2 -> 0 | D43: soit | E43: =C43/C42 -> #DIV/0! | F43: actions par lot consulté
B44: Nombre de propositions commerciales envoyées | C44: ='Parcours Clients'!E2 -> 0

Sheet Parcours Clients
A1: Prénom | B1: Nom | C1: Email | D1: Téléphone | E1: Envois de propositions visuelles | F1: Vendeur | G1: Préconnexion | H1: Chargement terminé de page | I1: Coach | J1: Ajout Comparateur | K1: Ajout Like Programme | L1: Ajout du filtre localisation | M1: Ouverture page programme | N1: Ouverture infos supplémentaires | O1: Ouverture plaquette commerciale | P1: Ouverture maquette 3D | Q1: Ouverture offre commerciale | R1: Ouverture page lot | S1: Ouverture visites virtuelles | T1: Ouverture plan 3D | U1: Ouverture plan pdf | V1: Ouverture simulation fiscale | W1: Envoie Proposition Commerciale Interactive | X1: Prise de rendez vous | Y1: Le dynamisme d’un centre-ville | Z1: Des espaces extérieurs confortables | AA1: La proximité des transports | AB1: Un cadre de vie pour ma famille | AC1: La nature | AD1: Un bureau pour le télétravail | AE1: Un stationnement facile | AF1: Total centre d’interêt | AG1: Total actions programmes | AH1: Total actions lots | AI1: Est affilié à un vendeur | AJ1: scoring programme | AK1: scoring coach | AL1: scroring lot | AN1: parcours jusqu'au rdv
G2: =SUMIF($AI4:$AI1000,"oui",G4:G1000) -> 0 | H2: =SUMIF($AI4:$AI1000,"oui",H4:H1000) -> 0 | I2: =SUMIF($AI4:$AI1000,"oui",I4:I1000) -> 0 | J2: =SUMIF($AI4:$AI1000,"oui",J4:J1000) -> 0 | K2: =SUMIF($AI4:$AI1000,"oui",K4:K1000) -> 0 | L2: =SUMIF($AI4:$AI1000,"oui",L4:L1000) -> 0 | M2: =SUMIF($AI4:$AI1000,"oui",M4:M1000) -> 0 | N2: =SUMIF($AI4:$AI1000,"oui",N4:N1000) -> 0 | ... X2: =SUMIF($AI4:$AI1000,"oui",X4:X1000) -> 0 | AG2: =SUMIF($AI4:$AI1000,"oui",AG4:AG1000) -> 0 | AH2: =SUMIF($AI4:$AI1000,"oui",AH4:AH1000) -> 0 | AP2: Total affilié
G3: =SUMIF($AI4:$AI1000,"non",G4:G1000) -> 0 | H3: =SUMIF($AI4:$AI1000,"non",H4:H1000) -> 0 | I3: =SUMIF($AI4:$AI1000,"non",I4:I1000) -> 0 | J3: =SUMIF($AI4:$AI1000,"non",J4:J1000) -> 0 | K3: =SUMIF($AI4:$AI1000,"non",K4:K1000) -> 0 | L3: =SUMIF($AI4:$AI1000,"non",L4:L1000) -> 0 | M3: =SUMIF($AI4:$AI1000,"non",M4:M1000) -> 0 | N3: =SUMIF($AI4:$AI1000,"non",N4:N1000) -> 0 | ... X3: =SUMIF($AI4:$AI1000,"non",X4:X1000) -> 0 | AG3: =SUMIF($AI4:$AI1000,"non",AG4:AG1000) -> 0 | AH3: =SUMIF($AI4:$AI1000,"non",AH4:AH1000) -> 0 | AP3: Total non affilié
AF4: =IF(COUNTIF(Y4:AE4,"Oui") >0,"Oui","Non") -> Non | AG4: =SUM(N4:Q4) -> 0 | AH4: =SUM(S4:V4) -> 0 | AI4: =IF(F4<>"","Oui","Non") -> Non | AJ4: =IF(M4>0,100,0) -> 0 | AK4: =IF(R4>0,1,0) -> 0 | AL4: =IF(R4>0,1,0) -> 0 | AM4: =SUM(AJ4:AL4) -> 0 | AN4: =IF(W4>0,AM4,0) -> 0
AF5: =IF(COUNTIF(Y5:AE5,"Oui") >0,"Oui","Non") -> Non | AG5: =SUM(N5:Q5) -> 0 | AH5: =SUM(S5:V5) -> 0 | AI5: =IF(F5<>"","Oui","Non") -> Non | AJ5: =IF(M5>0,100,0) -> 0 | AK5: =IF(R5>0,1,0) -> 0 | AL5: =IF(R5>0,1,0) -> 0 | AM5: =SUM(AJ5:AL5) -> 0 | AN5: =IF(W5>0,AM5,0) -> 0
AF6: =IF(COUNTIF(Y6:AE6,"Oui") >0,"Oui","Non") -> Non | AG6: =SUM(N6:Q6) -> 0 | AH6: =SUM(S6:V6) -> 0 | AI6: =IF(F6<>"","Oui","Non") -> Non | AJ6: =IF(M6>0,100,0) -> 0 | AK6: =IF(R6>0,1,0) -> 0 | AL6: =IF(R6>0,1,0) -> 0 | AM6: =SUM(AJ6:AL6) -> 0 | AN6: =IF(W6>0,AM6,0) -> 0
AF7: =IF(COUNTIF(Y7:AE7,"Oui") >0,"Oui","Non") -> Non | AG7: =SUM(N7:Q7) -> 0 | AH7: =SUM(S7:V7) -> 0 | AI7: =IF(F7<>"","Oui","Non") -> Non | AJ7: =IF(M7>0,100,0) -> 0 | AK7: =IF(R7>0,1,0) -> 0 | AL7: =IF(R7>0,1,0) -> 0 | AM7: =SUM(AJ7:AL7) -> 0 | AN7: =IF(W7>0,AM7,0) -> 0
AF8: =IF(COUNTIF(Y8:AE8,"Oui") >0,"Oui","Non") -> Non | AG8: =SUM(N8:Q8) -> 0 | AH8: =SUM(S8:V8) -> 0 | AI8: =IF(F8<>"","Oui","Non") -> Non | AJ8: =IF(M8>0,100,0) -> 0 | AK8: =IF(R8>0,1,0) -> 0 | AL8: =IF(R8>0,1,0) -> 0 | AM8: =SUM(AJ8:AL8) -> 0 | AN8: =IF(W8>0,AM8,0) -> 0
AF9: =IF(COUNTIF(Y9:AE9,"Oui") >0,"Oui","Non") -> Non | AG9: =SUM(N9:Q9) -> 0 | AH9: =SUM(S9:V9) -> 0 | AI9: =IF(F9<>"","Oui","Non") -> Non | AJ9: =IF(M9>0,100,0) -> 0 | AK9: =IF(R9>0,1,0) -> 0 | AL9: =IF(R9>0,1,0) -> 0 | AM9: =SUM(AJ9:AL9) -> 0 | AN9: =IF(W9>0,AM9,0) -> 0
AF10: =IF(COUNTIF(Y10:AE10,"Oui") >0,"Oui","Non") -> Non | AG10: =SUM(N10:Q10) -> 0 | AH10: =SUM(S10:V10) -> 0 | AI10: =IF(F10<>"","Oui","Non") -> Non | AJ10: =IF(M10>0,100,0) -> 0 | AK10: =IF(R10>0,1,0) -> 0 | AL10: =IF(R10>0,1,0) -> 0 | AM10: =SUM(AJ10:AL10) -> 0 | AN10: =IF(W10>0,AM10,0) -> 0
AF11: =IF(COUNTIF(Y11:AE11,"Oui") >0,"Oui","Non") -> Non | AG11: =SUM(N11:Q11) -> 0 | AH11: =SUM(S11:V11) -> 0 | AI11: =IF(F11<>"","Oui","Non") -> Non | AJ11: =IF(M11>0,100,0) -> 0 | AK11: =IF(R11>0,1,0) -> 0 | AL11: =IF(R11>0,1,0) -> 0 | AM11: =SUM(AJ11:AL11) -> 0 | AN11: =IF(W11>0,AM11,0) -> 0
AF12: =IF(COUNTIF(Y12:AE12,"Oui") >0,"Oui","Non") -> Non | AG12: =SUM(N12:Q12) -> 0 | AH12: =SUM(S12:V12) -> 0 | AI12: =IF(F12<>"","Oui","Non") -> Non | AJ12: =IF(M12>0,100,0) -> 0 | AK12: =IF(R12>0,1,0) -> 0 | AL12: =IF(R12>0,1,0) -> 0 | AM12: =SUM(AJ12:AL12) -> 0 | AN12: =IF(W12>0,AM12,0) -> 0
AF13: =IF(COUNTIF(Y13:AE13,"Oui") >0,"Oui","Non") -> Non | AG13: =SUM(N13:Q13) -> 0 | AH13: =SUM(S13:V13) -> 0 | AI13: =IF(F13<>"","Oui","Non") -> Non | AJ13: =IF(M13>0,100,0) -> 0 | AK13: =IF(R13>0,1,0) -> 0 | AL13: =IF(R13>0,1,0) -> 0 | AM13: =SUM(AJ13:AL13) -> 0 | AN13: =IF(W13>0,AM13,0) -> 0
AF14: =IF(COUNTIF(Y14:AE14,"Oui") >0,"Oui","Non") -> Non | AG14: =SUM(N14:Q14) -> 0 | AH14: =SUM(S14:V14) -> 0 | AI14: =IF(F14<>"","Oui","Non") -> Non | AJ14: =IF(M14>0,100,0) -> 0 | AK14: =IF(R14>0,1,0) -> 0 | AL14: =IF(R14>0,1,0) -> 0 | AM14: =SUM(AJ14:AL14) -> 0 | AN14: =IF(W14>0,AM14,0) -> 0
AF15: =IF(COUNTIF(Y15:AE15,"Oui") >0,"Oui","Non") -> Non | AG15: =SUM(N15:Q15) -> 0 | AH15: =SUM(S15:V15) -> 0 | AI15: =IF(F15<>"","Oui","Non") -> Non | AJ15: =IF(M15>0,100,0) -> 0 | AK15: =IF(R15>0,1,0) -> 0 | AL15: =IF(R15>0,1,0) -> 0 | AM15: =SUM(AJ15:AL15) -> 0 | AN15: =IF(W15>0,AM15,0) -> 0
... AF1025: =IF(COUNTIF(Y1025:AE1025,"Oui") >0,"Oui","Non") -> Non | AG1025: =SUM(N1025:Q1025) -> 0 | AH1025: =SUM(S1025:V1025) -> 0 | AI1025: =IF(F1025<>"","Oui","Non") -> Non | AJ1025: =IF(M1025>0,100,0) -> 0 | AK1025: =IF(R1025>0,1,0) -> 0 | AL1025: =IF(R1025>0,1,0) -> 0 | AM1025: =SUM(AJ1025:AL1025) -> 0 | AN1025: =IF(W1025>0,AM1025,0) -> 0

Sheet Parcours vendeurs
A1: Prénom | B1: Nom | C1: Email | D1: Prospects | E1: Préconnexion | F1: Chargement terminé de page | G1: Coach | H1: Ajout Comparateur | I1: Ajout Like Programme | J1: Ajout du filtre localisation | K1: Ouverture page programme | L1: Ouverture infos supplémentaires | M1: Ouverture plaquette commerciale | N1: Ouverture maquette 3D | O1: Ouverture offre commerciale | P1: Ouverture page lot | Q1: Ouverture visites virtuelles | R1: Ouverture plan 3D | S1: Ouverture plan pdf | T1: Ouverture simulation fiscale | U1: Envoie Proposition Commerciale Interactive | V1: Prise de rendez vous | W1: Le dynamisme d’un centre-ville | X1: Des espaces extérieurs confortables | Y1: La proximité des transports | Z1: Un cadre de vie pour ma famille | AA1: La nature | AB1: Un bureau pour le télétravail | AC1: Un stationnement facile | AD1: Total centre d’interêt | AE1: Total actions programmes | AF1: Total actions lots
E2: =SUM(E3:E999) -> 0 | F2: =SUM(F3:F999) -> 0 | G2: =SUM(G3:G999) -> 0 | H2: =SUM(H3:H999) -> 0 | I2: =SUM(I3:I999) -> 0 | J2: =SUM(J3:J999) -> 0 | K2: =SUM(K3:K999) -> 0 | L2: =SUM(L3:L999) -> 0 | ... V2: =SUM(V3:V999) -> 0 | AE2: =SUM(AE3:AE999) -> 0 | AF2: =SUM(AF3:AF999) -> 0 | AG2: Total
AD4: =IF(COUNTIF(W4:AC4,"Oui") >0,"Oui","Non") -> Non | AE4: =SUM(L4:O4) -> 0 | AF4: =SUM(Q4:T4) -> 0
AD5: =IF(COUNTIF(W5:AC5,"Oui") >0,"Oui","Non") -> Non | AE5: =SUM(L5:O5) -> 0 | AF5: =SUM(Q5:T5) -> 0
AD6: =IF(COUNTIF(W6:AC6,"Oui") >0,"Oui","Non") -> Non | AE6: =SUM(L6:O6) -> 0 | AF6: =SUM(Q6:T6) -> 0
AD7: =IF(COUNTIF(W7:AC7,"Oui") >0,"Oui","Non") -> Non | AE7: =SUM(L7:O7) -> 0 | AF7: =SUM(Q7:T7) -> 0
AD8: =IF(COUNTIF(W8:AC8,"Oui") >0,"Oui","Non") -> Non | AE8: =SUM(L8:O8) -> 0 | AF8: =SUM(Q8:T8) -> 0
AD9: =IF(COUNTIF(W9:AC9,"Oui") >0,"Oui","Non") -> Non | AE9: =SUM(L9:O9) -> 0 | AF9: =SUM(Q9:T9) -> 0
AD10: =IF(COUNTIF(W10:AC10,"Oui") >0,"Oui","Non") -> Non | AE10: =SUM(L10:O10) -> 0 | AF10: =SUM(Q10:T10) -> 0
AD11: =IF(COUNTIF(W11:AC11,"Oui") >0,"Oui","Non") -> Non | AE11: =SUM(L11:O11) -> 0 | AF11: =SUM(Q11:T11) -> 0
AD12: =IF(COUNTIF(W12:AC12,"Oui") >0,"Oui","Non") -> Non | AE12: =SUM(L12:O12) -> 0 | AF12: =SUM(Q12:T12) -> 0
AD13: =IF(COUNTIF(W13:AC13,"Oui") >0,"Oui","Non") -> Non | AE13: =SUM(L13:O13) -> 0 | AF13: =SUM(Q13:T13) -> 0
AD14: =IF(COUNTIF(W14:AC14,"Oui") >0,"Oui","Non") -> Non | AE14: =SUM(L14:O14) -> 0 | AF14: =SUM(Q14:T14) -> 0
AD15: =IF(COUNTIF(W15:AC15,"Oui") >0,"Oui","Non") -> Non | AE15: =SUM(L15:O15) -> 0 | AF15: =SUM(Q15:T15) -> 0
... AD1024: =IF(COUNTIF(W1024:AC1024,"Oui") >0,"Oui","Non") -> Non | AE1024: =SUM(L1024:O1024) -> 0 | AF1024: =SUM(Q1024:T1024) -> 0

Sheet Historique des connections
A1: Prénom | B1: Nom | C1: Email | D1: Prospects | E1: Total
E2: =SUM(F2:DU2) -> 0
E3: =SUM(F3:DU3) -> 0
E4: =SUM(F4:DU4) -> 0
E5: =SUM(F5:DU5) -> 0
E6: =SUM(F6:DU6) -> 0
E7: =SUM(F7:DU7) -> 0
E8: =SUM(F8:DU8) -> 0
E9: =SUM(F9:DU9) -> 0
E10: =SUM(F10:DU10) -> 0
E11: =SUM(F11:DU11) -> 0
E12: =SUM(F12:DU12) -> 0
E13: =SUM(F13:DU13) -> 0
... E999: =SUM(F999:DU999) -> 0
