Workbook

Sheet ACTIVITE VENDEURS
B2: ACTIVITES VENDEURS
B4: Du | C4: 45303 | D4: au | E4: 45303
C6: NB connexions | E6: NB prop. Co. Envoyées
C7: NB de sessions par prospects | E7: NB pages vues
C8: NB prospects traités | E8: Fiche backoffice

Sheet RECAP PARCOURS AUTONOMES
B2: ANALYSE DES PARCOURS AUTONOMES
B4: Du | C4: 45303 | D4: au | E4: 45303
B6: Les prospects | J6: Tracking des parcours
B7: =Récapitulatif!C15 -> 0 | C7: prospects générés par LeLED CONNECT | J7: =Récapitulatif!C19 -> 0 | K7: pages vues
B8: dont | C8: =Récapitulatif!D17 -> #DIV/0! | D8: reviennent plusieurs fois sur l'application | J8: soit | K8: =Récapitulatif!C21 -> #DIV/0! | L8: par prospect
J9: =Récapitulatif!D22 -> #DIV/0! | K9: des visiteurs découvrent au moins 1 programme
J10: =Récapitulatif!C23 -> 0 | K10: programmes visités
B11: L'hyperqualification | J11: Chaque prospect visualise en moyenne | N11: =Récapitulatif!C24 -> #DIV/0! | O11: opérations
B12: Joignabilité
B13: 1 | C13: des coordonnées téléphoniques garanties | J13: =Récapitulatif!C28 -> 0 | K13: prospects consultent au moins 1 lot(s)
B14: Compréhension de leurs attentes profondes | J14: =Récapitulatif!C27 -> 0 | K14: biens consultés
B15: =Récapitulatif!D34 -> #DIV/0! | C15: répondent facilement aux questions d'intérêt | J15: Chaque prospect regarde en moyenne | N15: =Récapitulatif!C29 -> #DIV/0! | O15: biens
B16: Connaissance pointe de leur profil
B17: =Récapitulatif!K26 -> #DIV/0! | C17: effectuent le parcours coach | J17: Marques d'intérêt et conversion
J18: =Récapitulatif!D32 -> #DIV/0! | K18: des parcours se convertissent en prise de rendez-vous
J19: =Récapitulatif!D33 -> #DIV/0! | K19: des prospects génèrent une proposition commerciale

Sheet RECAP PARCOURS VENDEURS
B2: ANALYSE DES PARCOURS VENDEURS
B4: Du | C4: 45303 | D4: au | E4: 45303
B6: =Récapitulatif!C5 -> 0 | C6: vendeurs actifs | E6: =Récapitulatif!C6 -> 0 | F6: sessions
B7: =Récapitulatif!C7 -> #DIV/0! | C7: connexions moyennes par utilisateur
B8: =Récapitulatif!C37 -> 0 | C8: prospects accompagnés
E10: Usage travail | G10: Usage prospect
B11: Nombre de pages vues | E11: =Récapitulatif!C8 -> 0 | G11: =Récapitulatif!C38 -> 0
B12: Nombre de pages vues par session | E12: =Récapitulatif!C9 -> #DIV/0! | G12: =Récapitulatif!C39 -> #DIV/0!
B13: Nombre de programmes vus | E13: =Récapitulatif!C10 -> 0 | G13: =Récapitulatif!C40 -> 0
B14: Lots mis au comparateur | E14: =Récapitulatif!C12 -> 0 | G14: =Récapitulatif!C47 -> 0
B15: Propositions commerciales envoyées | G15: ='Parcours vendeurs'!D2 -> 0

Sheet PROFIL PROSPECT
L2: BUDGET DES PROSPECTS
L3: Budget moyen | M3: =('Parcours clients autonomes'!K2+'Parcours contacts vendeurs'!L2) /('Parcours contacts vendeurs'!K2+'Parcours clients autonomes'!J2) -> #DIV/0!
L4: Budget médian | M4: =MEDIAN('Parcours contacts vendeurs'!$K$3:$M$10000,'Parcours clients autonomes'!$J$3:$L$10000) -> #VALUE!
L5: Mini | M5: =MIN('Parcours clients autonomes'!J4:L10000,'Parcours contacts vendeurs'!K3:M10000) -> 0

Sheet Récapitulatif
B3: Vendeurs
B4: Total | C4: =ROWS('Parcours vendeurs'!A3:A997)-COUNTBLANK('Parcours vendeurs'!A3:A997) -> 0
B5: Ayant utilisé l’application | C5: =COUNTIF('Historique des connections'!G4:G1001,">0") -> 0 | D5: =C5/C4 -> #DIV/0!
B6: nombre de sessions vendeurs | C6: ='Historique des connections'!G2 -> 0
B7: Nombre de connexions moyennes / vendeur utilisateur | C7: =C6/C5 -> #DIV/0!
B8: Nombre de pages vues | C8: =SUM('Parcours vendeurs'!H3:H997) -> 0
B9: Nombre de pages vues par session | C9: =C8/SUM('Historique des connections'!E4:E10001) -> #DIV/0!
B10: Nombre de programmes vus | C10: ='Parcours vendeurs'!M2 -> 0
B11: Nombre de lots vus | C11: ='Parcours vendeurs'!R2 -> 0
B12: lot mis au comparateur | C12: ='Parcours vendeurs'!J2 -> 0
B14: Prospect autonome
B15: Total | C15: ='Parcours clients autonomes'!A2 -> 0
B16: Nombre de sessions | C16: =C15+'Parcours clients autonomes'!W2 -> 0
B17: Nombre de prospects qui reviennent | C17: =COUNTIF('Parcours clients autonomes'!W3:W998,">0") -> 0 | D17: =C17/C15 -> #DIV/0! | E17: des prospects font une deuxième visite sur l'appli
B18: nb connexion par prospects | C18: =C16/C15 -> #DIV/0!
B19: nombre de page vues | C19: ='Parcours clients autonomes'!X2 -> 0
B20: nombre de pages vues par sessions | C20: =C19/C16 -> #DIV/0!
B21: Nombre de pages vues par prospect | C21: =C19/C15 -> #DIV/0!
B22: Nombre de prospects qui voient un programme | C22: =COUNTIF('Parcours clients autonomes'!AC3:AC998,">0") -> 0 | D22: =C22/C15 -> #DIV/0! | E22: des prospects visitent au moins 1 programme
B23: Nombre de programmes vus | C23: ='Parcours clients autonomes'!AC2 -> 0
B24: Nombre de programmes vus par prospect | C24: =C23/C22 -> #DIV/0! | E24: programmes consultés par utilisateur actif
B25: Nombre d'interaction pages programmes | C25: ='Parcours clients autonomes'!AV2 -> 0
B26: Nombre de parcours coach | C26: ='Parcours clients autonomes'!AY2 -> 0 | D26: =C26/C22 -> #DIV/0! | E26: des visiteurs actifs remplissent le parcours coach | K26: =C26/C15 -> #DIV/0! | L26: des parcours initiés sont hyper qualifiés par le parcours coach
B27: Nombre de lot consultés | C27: ='Parcours clients autonomes'!AH2 -> 0
B28: Nombre de prospects qui voient un lot | C28: =COUNTIF('Parcours clients autonomes'!AH3:AH998,">0") -> 0 | D28: =C28/C22 -> #DIV/0! | E28: des visiteurs actifs consulte au moins 1 lot
B29: Nombre de lot consultés par visiteur actif | C29: =C27/C28 -> #DIV/0! | E29: Un visiteur actif consulte en moyenne 3 lots
B30: Nombre d'interaction pages lots | C30: ='Parcours clients autonomes'!AW2 -> 0
B31: Nombre de rendez-vous pris | C31: ='Parcours clients autonomes'!AM2 -> 0
B32: Nombre de prospects qui prennent un rdv | C32: =COUNTIF('Parcours clients autonomes'!AM3:AM998,">0") -> 0 | D32: =C32/C15 -> #DIV/0! | E32: des visiteurs prennent un rdv avec un conseiller
B33: Nombre de propositions commerciales envoyées | C33: ='Parcours clients autonomes'!E2 -> 0 | D33: =C33/C15 -> #DIV/0!
B34: Nombre de répondant aux questions intérêt | C34: ='Parcours clients autonomes'!AU2 -> 0 | D34: =C34/C15 -> #DIV/0! | E34: des prospects donnent des informations aux questions "intérêt"
B36: Prospect lié à un vendeur (contact)
B37: Total | C37: ='Parcours contacts vendeurs'!A2 -> 0
B38: nombre de page vues | C38: ='Parcours contacts vendeurs'!Y2 -> 0
B39: nombre de pages vues par prospect | C39: =C38/C37 -> #DIV/0!
B40: Nombre de programme vus | C40: ='Parcours clients autonomes'!AD2 -> 0
B41: Nombre de programmes vus par prospect | C41: =C40/C37 -> #DIV/0! | E41: programmes consultés par prospect
B42: Nombre d'interaction pages programmes | C42: ='Parcours contacts vendeurs'!AW2 -> 0
B43: Nombre de parcours coach | C43: ='Parcours contacts vendeurs'!BA2 -> 0 | D43: =C43/C37 -> #DIV/0! | E43: des vendeurs font entrer les clients dans le parcours coach
B44: Nombre de lot consultés | C44: ='Parcours contacts vendeurs'!AI2 -> 0
...

Sheet Typologie
B3: Nombre de pièces
B4: Codes | D4: Description | E4: Autonome | F4: Contact vendeurs | G4: Total
B5: 1C | C5: 0C | D5: Studio / 2 Pièces | E5: =COUNTIF('Parcours clients autonomes'!$P$3:$R$10000,$B5) + COUNTIF('Parcours clients autonomes'!$P$3:$R$10000,$C5) -> 0 | F5: =COUNTIF('Parcours contacts vendeurs'!$Q$3:$S$10000,$B5) + COUNTIF('Parcours contacts vendeurs'!$Q$3:$S$10000,$C5) -> 0 | G5: =E5+F5 -> 0
B6: 2C | D6: 3 pièces | E6: =COUNTIF('Parcours clients autonomes'!$P$3:$R$10000,$B6) + COUNTIF('Parcours clients autonomes'!$P$3:$R$10000,$C6) -> 0 | F6: =COUNTIF('Parcours contacts vendeurs'!$Q$3:$S$10000,$B6) + COUNTIF('Parcours contacts vendeurs'!$Q$3:$S$10000,$C6) -> 0 | G6: =E6+F6 -> 0
B7: 3C | D7: 4 Pièces | E7: =COUNTIF('Parcours clients autonomes'!P$3:R$10000,B7) + COUNTIF('Parcours clients autonomes'!P$3:R$10000,C7) -> 0 | F7: =COUNTIF('Parcours contacts vendeurs'!$Q$3:$S$10000,$B7) + COUNTIF('Parcours contacts vendeurs'!$Q$3:$S$10000,$C7) -> 0 | G7: =E7+F7 -> 0
B8: 4C | D8: 5 Pièces | E8: =COUNTIF('Parcours clients autonomes'!P$3:R$10000,B8) + COUNTIF('Parcours clients autonomes'!P$3:R$10000,C8) -> 0 | F8: =COUNTIF('Parcours contacts vendeurs'!$Q$3:$S$10000,$B8) + COUNTIF('Parcours contacts vendeurs'!$Q$3:$S$10000,$C8) -> 0 | G8: =E8+F8 -> 0
B9: 5C | D9: 6 Pièces | E9: =COUNTIF('Parcours clients autonomes'!P$3:R$10000,B9) + COUNTIF('Parcours clients autonomes'!P$3:R$10000,C9) -> 0 | F9: =COUNTIF('Parcours contacts vendeurs'!$Q$3:$S$10000,$B9) + COUNTIF('Parcours contacts vendeurs'!$Q$3:$S$10000,$C9) -> 0 | G9: =E9+F9 -> 0
B10: 6C | D10: 7 Pièces | E10: =COUNTIF('Parcours clients autonomes'!P$3:R$10000,B10) + COUNTIF('Parcours clients autonomes'!P$3:R$10000,C10) -> 0 | F10: =COUNTIF('Parcours contacts vendeurs'!$Q$3:$S$10000,$B10) + COUNTIF('Parcours contacts vendeurs'!$Q$3:$S$10000,$C10) -> 0 | G10: =E10+F10 -> 0
B11: 7C | D11: 8 Pièces | E11: =COUNTIF('Parcours clients autonomes'!P$3:R$10000,B11) + COUNTIF('Parcours clients autonomes'!P$3:R$10000,C11) -> 0 | F11: =COUNTIF('Parcours contacts vendeurs'!$Q$3:$S$10000,$B11) + COUNTIF('Parcours contacts vendeurs'!$Q$3:$S$10000,$C11) -> 0 | G11: =E11+F11 -> 0
D12: Total | E12: =SUM(E5:E11) -> 0 | F12: =SUM(F5:F11) -> 0 | G12: =SUM(G5:G11) -> 0
B14: Nombre de personnes
B15: Codes | D15: Description | E15: Autonome | F15: Contact vendeurs | G15: Total
B16: 1E | D16: 1 Personne | E16: =COUNTIF('Parcours clients autonomes'!$M$3:$O$10000,$B16) -> 0 | F16: =COUNTIF('Parcours contacts vendeurs'!$N$3:$P$10000,$B16) -> 0 | G16: =E16+F16 -> 0
B17: 2E | D17: 2 Personnes | E17: =COUNTIF('Parcours clients autonomes'!$M$3:$O$10000,$B17) -> 0 | F17: =COUNTIF('Parcours contacts vendeurs'!$N$3:$P$10000,$B17) -> 0 | G17: =E17+F17 -> 0
B18: 3E | D18: 3 Personnes | E18: =COUNTIF('Parcours clients autonomes'!$M$3:$O$10000,$B18) -> 0 | F18: =COUNTIF('Parcours contacts vendeurs'!$N$3:$P$10000,$B18) -> 0 | G18: =E18+F18 -> 0
B19: 4E | D19: 4 Personnes | E19: =COUNTIF('Parcours clients autonomes'!$M$3:$O$10000,$B19) -> 0 | F19: =COUNTIF('Parcours contacts vendeurs'!$N$3:$P$10000,$B19) -> 0 | G19: =E19+F19 -> 0
B20: 5E | D20: 5 Personnes | E20: =COUNTIF('Parcours clients autonomes'!$M$3:$O$10000,$B20) -> 0 | F20: =COUNTIF('Parcours contacts vendeurs'!$N$3:$P$10000,$B20) -> 0 | G20: =E20+F20 -> 0
B21: 6E | D21: 6 Personnes | E21: =COUNTIF('Parcours clients autonomes'!$M$3:$O$10000,$B21) -> 0 | F21: =COUNTIF('Parcours contacts vendeurs'!$N$3:$P$10000,$B21) -> 0 | G21: =E21+F21 -> 0
B22: 7E | D22: 7 Personnes | E22: =COUNTIF('Parcours clients autonomes'!$M$3:$O$10000,$B22) -> 0 | F22: =COUNTIF('Parcours contacts vendeurs'!$N$3:$P$10000,$B22) -> 0 | G22: =E22+F22 -> 0
D23: Total | E23: =SUM(E16:E22) -> 0 | F23: =SUM(F16:F22) -> 0 | G23: =SUM(G16:G22) -> 0
B25: Objectifs
B26: Codes | D26: Description | E26: Autonome | F26: Contact vendeurs | G26: Total
B27: Habiter | D27: =B27 -> Habiter | E27: =COUNTIF('Parcours clients autonomes'!$S$3:$U$10000,$B27) -> 0 | F27: =COUNTIF('Parcours contacts vendeurs'!$T$3:$V$10000,$B27) -> 0 | G27: =E27+F27 -> 0
B28: Investir | D28: =B28 -> Investir | E28: =COUNTIF('Parcours clients autonomes'!$S$3:$U$10000,$B28) -> 0 | F28: =COUNTIF('Parcours contacts vendeurs'!$T$3:$V$10000,$B28) -> 0 | G28: =E28+F28 -> 0
D29: Total | E29: =SUM(E27:E28) -> 0 | F29: =SUM(F27:F28) -> 0 | G29: =SUM(G27:G28) -> 0
B31: Centre d’intérêt
B32: Codes | D32: Description | E32: Autonome | F32: Contact vendeurs | G32: Total
D33: Le dynamisme d’un centre-ville | E33: ='Parcours clients autonomes'!$AN$2 -> 0 | F33: ='Parcours contacts vendeurs'!$AO$2 -> 0 | G33: =E33+F33 -> 0
D34: Des espaces extérieurs confortables | E34: ='Parcours clients autonomes'!$AO$2 -> 0 | F34: ='Parcours contacts vendeurs'!$AP$2 -> 0 | G34: =E34+F34 -> 0
D35: La proximité des transports | E35: ='Parcours clients autonomes'!$AP$2 -> 0 | F35: ='Parcours contacts vendeurs'!$AQ$2 -> 0 | G35: =E35+F35 -> 0
D36: Un cadre de vie pour ma famille | E36: ='Parcours clients autonomes'!$AQ$2 -> 0 | F36: ='Parcours contacts vendeurs'!$AR$2 -> 0 | G36: =E36+F36 -> 0
D37: La nature | E37: ='Parcours clients autonomes'!$AR$2 -> 0 | F37: ='Parcours contacts vendeurs'!$AS$2 -> 0 | G37: =E37+F37 -> 0
D38: Un bureau pour le télétravail | E38: ='Parcours clients autonomes'!$AS$2 -> 0 | F38: ='Parcours contacts vendeurs'!$AT$2 -> 0 | G38: =E38+F38 -> 0
D39: Un stationnement facile | E39: ='Parcours clients autonomes'!$AT$2 -> 0 | F39: ='Parcours contacts vendeurs'!$AU$2 -> 0 | G39: =E39+F39 -> 0
D40: Total | E40: =SUM(E33:E39) -> 0 | F40: =SUM(F33:F39) -> 0 | G40: =SUM(G33:G39) -> 0

Sheet Localisation
B2: N° | C2: Département | D2: Chef-lieu | E2: Région | F2: Total | H2: Régions | I2: Total
B3: 01 | C3: Ain | D3: Bourg-en-Bresse | E3: Auvergne-Rhône-Alpes | F3: =COUNTIF('Parcours clients autonomes'!$G$3:$I$10000,$B3)+COUNTIF('Parcours contacts vendeurs'!$H$3:$J$10000,$B3) -> 0 | H3: Auvergne-Rhône-Alpes | I3: =SUMIF($E$3:$E$103,H3,$F$3:$F$103) -> 0
B4: 02 | C4: Aisne | D4: Laon | E4: Hauts-de-France | F4: =COUNTIF('Parcours clients autonomes'!$G$3:$I$10000,$B4)+COUNTIF('Parcours contacts vendeurs'!$H$3:$J$10000,$B4) -> 0 | H4: Hauts-de-France | I4: =SUMIF($E$3:$E$103,H4,$F$3:$F$103) -> 0
B5: 03 | C5: Allier | D5: Moulins | E5: Auvergne-Rhône-Alpes | F5: =COUNTIF('Parcours clients autonomes'!$G$3:$I$10000,$B5)+COUNTIF('Parcours contacts vendeurs'!$H$3:$J$10000,$B5) -> 0 | H5: Provence-Alpes-Côte d'Azur | I5: =SUMIF($E$3:$E$103,H5,$F$3:$F$103) -> 0
B6: 04 | C6: Alpes-de-Haute-Provence | D6: Digne | E6: Provence-Alpes-Côte d'Azur | F6: =COUNTIF('Parcours clients autonomes'!$G$3:$I$10000,$B6)+COUNTIF('Parcours contacts vendeurs'!$H$3:$J$10000,$B6) -> 0 | H6: Grand Est | I6: =SUMIF($E$3:$E$103,H6,$F$3:$F$103) -> 0
B7: 05 | C7: Hautes-Alpes | D7: Gap | E7: Provence-Alpes-Côte d'Azur | F7: =COUNTIF('Parcours clients autonomes'!$G$3:$I$10000,$B7)+COUNTIF('Parcours contacts vendeurs'!$H$3:$J$10000,$B7) -> 0 | H7: Occitanie | I7: =SUMIF($E$3:$E$103,H7,$F$3:$F$103) -> 0
B8: 06 | C8: Alpes-Maritimes | D8: Nice | E8: Provence-Alpes-Côte d'Azur | F8: =COUNTIF('Parcours clients autonomes'!$G$3:$I$10000,$B8)+COUNTIF('Parcours contacts vendeurs'!$H$3:$J$10000,$B8) -> 0 | H8: Normandie | I8: =SUMIF($E$3:$E$103,H8,$F$3:$F$103) -> 0
B9: 07 | C9: Ardèche | D9: Privas | E9: Auvergne-Rhône-Alpes | F9: =COUNTIF('Parcours clients autonomes'!$G$3:$I$10000,$B9)+COUNTIF('Parcours contacts vendeurs'!$H$3:$J$10000,$B9) -> 0 | H9: Nouvelle-Aquitaine | I9: =SUMIF($E$3:$E$103,H9,$F$3:$F$103) -> 0
B10: 08 | C10: Ardennes | D10: Charleville-Mézières | E10: Grand Est | F10: =COUNTIF('Parcours clients autonomes'!$G$3:$I$10000,$B10)+COUNTIF('Parcours contacts vendeurs'!$H$3:$J$10000,$B10) -> 0 | H10: Centre-Val de Loire | I10: =SUMIF($E$3:$E$103,H10,$F$3:$F$103) -> 0
B11: 09 | C11: Ariège | D11: Foix | E11: Occitanie | F11: =COUNTIF('Parcours clients autonomes'!$G$3:$I$10000,$B11)+COUNTIF('Parcours contacts vendeurs'!$H$3:$J$10000,$B11) -> 0 | H11: Corse | I11: =SUMIF($E$3:$E$103,H11,$F$3:$F$103) -> 0
B12: 10 | C12: Aube | D12: Troyes | E12: Grand Est | F12: =COUNTIF('Parcours clients autonomes'!$G$3:$I$10000,$B12)+COUNTIF('Parcours contacts vendeurs'!$H$3:$J$10000,$B12) -> 0 | H12: Bourgogne-Franche-Comté | I12: =SUMIF($E$3:$E$103,H12,$F$3:$F$103) -> 0
B13: 11 | C13: Aude | D13: Carcassonne | E13: Occitanie | F13: =COUNTIF('Parcours clients autonomes'!$G$3:$I$10000,$B13)+COUNTIF('Parcours contacts vendeurs'!$H$3:$J$10000,$B13) -> 0 | H13: Bretagne | I13: =SUMIF($E$3:$E$103,H13,$F$3:$F$103) -> 0
B14: 12 | C14: Aveyron | D14: Rodez | E14: Occitanie | F14: =COUNTIF('Parcours clients autonomes'!$G$3:$I$10000,$B14)+COUNTIF('Parcours contacts vendeurs'!$H$3:$J$10000,$B14) -> 0 | H14: Pays de la Loire | I14: =SUMIF($E$3:$E$103,H14,$F$3:$F$103) -> 0
B15: 13 | C15: Bouches-du-Rhône | D15: Marseille | E15: Provence-Alpes-Côte d'Azur | F15: =COUNTIF('Parcours clients autonomes'!$G$3:$I$10000,$B15)+COUNTIF('Parcours contacts vendeurs'!$H$3:$J$10000,$B15) -> 0 | H15: Ile-de-France | I15: =SUMIF($E$3:$E$103,H15,$F$3:$F$103) -> 0
B16: 14 | C16: Calvados | D16: Caen | E16: Normandie | F16: =COUNTIF('Parcours clients autonomes'!$G$3:$I$10000,$B16)+COUNTIF('Parcours contacts vendeurs'!$H$3:$J$10000,$B16) -> 0 | H16: Guadeloupe | I16: =SUMIF($E$3:$E$103,H16,$F$3:$F$103) -> 0
B17: 15 | C17: Cantal | D17: Aurillac | E17: Auvergne-Rhône-Alpes | F17: =COUNTIF('Parcours clients autonomes'!$G$3:$I$10000,$B17)+COUNTIF('Parcours contacts vendeurs'!$H$3:$J$10000,$B17) -> 0 | H17: Martinique | I17: =SUMIF($E$3:$E$103,H17,$F$3:$F$103) -> 0
B18: 16 | C18: Charente | D18: Angoulême | E18: Nouvelle-Aquitaine | F18: =COUNTIF('Parcours clients autonomes'!$G$3:$I$10000,$B18)+COUNTIF('Parcours contacts vendeurs'!$H$3:$J$10000,$B18) -> 0 | H18: Guyane | I18: =SUMIF($E$3:$E$103,H18,$F$3:$F$103) -> 0
B19: 17 | C19: Charente-Maritime | D19: La Rochelle | E19: Nouvelle-Aquitaine | F19: =COUNTIF('Parcours clients autonomes'!$G$3:$I$10000,$B19)+COUNTIF('Parcours contacts vendeurs'!$H$3:$J$10000,$B19) -> 0 | H19: La Réunion | I19: =SUMIF($E$3:$E$103,H19,$F$3:$F$103) -> 0
B20: 18 | C20: Cher | D20: Bourges | E20: Centre-Val de Loire | F20: =COUNTIF('Parcours clients autonomes'!$G$3:$I$10000,$B20)+COUNTIF('Parcours contacts vendeurs'!$H$3:$J$10000,$B20) -> 0 | H20: Mayotte | I20: =SUMIF($E$3:$E$103,H20,$F$3:$F$103) -> 0
B21: 19 | C21: Corrèze | D21: Tulle | E21: Nouvelle-Aquitaine | F21: =COUNTIF('Parcours clients autonomes'!$G$3:$I$10000,$B21)+COUNTIF('Parcours contacts vendeurs'!$H$3:$J$10000,$B21) -> 0
B22: 2A | C22: Corse-du-Sud | D22: Ajaccio | E22: Corse | F22: =COUNTIF('Parcours clients autonomes'!$G$3:$I$10000,$B22)+COUNTIF('Parcours contacts vendeurs'!$H$3:$J$10000,$B22) -> 0
B23: 2B | C23: Haute-Corse | D23: Bastia | E23: Corse | F23: =COUNTIF('Parcours clients autonomes'!$G$3:$I$10000,$B23)+COUNTIF('Parcours contacts vendeurs'!$H$3:$J$10000,$B23) -> 0
B24: 21 | C24: Côte-d'Or | D24: Dijon | E24: Bourgogne-Franche-Comté | F24: =COUNTIF('Parcours clients autonomes'!$G$3:$I$10000,$B24)+COUNTIF('Parcours contacts vendeurs'!$H$3:$J$10000,$B24) -> 0
B25: 22 | C25: Côtes d'Armor | D25: Saint-Brieuc | E25: Bretagne | F25: =COUNTIF('Parcours clients autonomes'!$G$3:$I$10000,$B25)+COUNTIF('Parcours contacts vendeurs'!$H$3:$J$10000,$B25) -> 0
B26: 23 | C26: Creuse | D26: Guéret | E26: Nouvelle-Aquitaine | F26: =COUNTIF('Parcours clients autonomes'!$G$3:$I$10000,$B26)+COUNTIF('Parcours contacts vendeurs'!$H$3:$J$10000,$B26) -> 0
B27: 24 | C27: Dordogne | D27: Périgueux | E27: Nouvelle-Aquitaine | F27: =COUNTIF('Parcours clients autonomes'!$G$3:$I$10000,$B27)+COUNTIF('Parcours contacts vendeurs'!$H$3:$J$10000,$B27) -> 0
B28: 25 | C28: Doubs | D28: Besançon | E28: Bourgogne-Franche-Comté | F28: =COUNTIF('Parcours clients autonomes'!$G$3:$I$10000,$B28)+COUNTIF('Parcours contacts vendeurs'!$H$3:$J$10000,$B28) -> 0
B29: 26 | C29: Drôme | D29: Valence | E29: Auvergne-Rhône-Alpes | F29: =COUNTIF('Parcours clients autonomes'!$G$3:$I$10000,$B29)+COUNTIF('Parcours contacts vendeurs'!$H$3:$J$10000,$B29) -> 0
B30: 27 | C30: Eure | D30: Évreux | E30: Normandie | F30: =COUNTIF('Parcours clients autonomes'!$G$3:$I$10000,$B30)+COUNTIF('Parcours contacts vendeurs'!$H$3:$J$10000,$B30) -> 0
B31: 28 | C31: Eure-et-Loir | D31: Chartres | E31: Centre-Val de Loire | F31: =COUNTIF('Parcours clients autonomes'!$G$3:$I$10000,$B31)+COUNTIF('Parcours contacts vendeurs'!$H$3:$J$10000,$B31) -> 0
B32: 29 | C32: Finistère | D32: Quimper | E32: Bretagne | F32: =COUNTIF('Parcours clients autonomes'!$G$3:$I$10000,$B32)+COUNTIF('Parcours contacts vendeurs'!$H$3:$J$10000,$B32) -> 0
B33: 30 | C33: Gard | D33: Nîmes | E33: Occitanie | F33: =COUNTIF('Parcours clients autonomes'!$G$3:$I$10000,$B33)+COUNTIF('Parcours contacts vendeurs'!$H$3:$J$10000,$B33) -> 0
B34: 31 | C34: Haute-Garonne | D34: Toulouse | E34: Occitanie | F34: =COUNTIF('Parcours clients autonomes'!$G$3:$I$10000,$B34)+COUNTIF('Parcours contacts vendeurs'!$H$3:$J$10000,$B34) -> 0
B35: 32 | C35: Gers | D35: Auch | E35: Occitanie | F35: =COUNTIF('Parcours clients autonomes'!$G$3:$I$10000,$B35)+COUNTIF('Parcours contacts vendeurs'!$H$3:$J$10000,$B35) -> 0
... B103: 976 | C103: Mayotte | D103: Dzaoudzi | E103: Mayotte | F103: =COUNTIF('Parcours clients autonomes'!$G$3:$I$10000,$B103)+COUNTIF('Parcours contacts vendeurs'!$H$3:$J$10000,$B103) -> 0

Sheet Parcours contacts vendeurs
A1: Prénom | B1: Nom | C1: Email | D1: Téléphone | E1: Envois de propositions visuelles | F1: Propositions visuelles remplies | G1: Vendeur | H1: Département | K1: Budget | N1: Nombre de personnes | Q1: Nombre de chambres | T1: Objectif | W1: Confirmation de connections | X1: Préconnexion | Y1: Chargement terminé de page | Z1: Coach | AA1: Ajout Comparateur | AB1: Ajout Like Programme | AC1: Ajout du filtre localisation | AD1: Ouverture page programme | AE1: Ouverture infos supplémentaires | AF1: Ouverture plaquette commerciale | AG1: Ouverture maquette 3D | AH1: Ouverture offre commerciale | AI1: Ouverture page lot | AJ1: Ouverture visites virtuelles | AK1: Ouverture plan 3D | AL1: Ouverture plan pdf | AM1: Ouverture simulation fiscale | AN1: demande_rdv | AO1: Le dynamisme d’un centre-ville | AP1: Des espaces extérieurs confortables | AQ1: La proximité des transports | AR1: Un cadre de vie pour ma famille | AS1: La nature | AT1: Un bureau pour le télétravail | AU1: Un stationnement facile | AV1: Total centre d’interêt | AW1: Total actions programmes | AX1: Total actions lots | AY1: scoring programme | AZ1: scoring coach | BA1: scroring lot | BC1: parcours jusqu'au rdv
A2: =COUNTIF(A3:A10000,"<>"&"") -> 0 | E2: =SUM(E3:E10000) -> 0 | F2: =SUM(F3:F10000) -> 0 | K2: =COUNTIF(K$3:M$10000,"<>"&"") -> 0 | L2: =SUM(K$3:M$10000) -> 0 | N2: =COUNTIF(N$3:P$10000,"<>"&"") -> 0 | Q2: =COUNTIF(Q$3:S$10000,"<>"&"") -> 0 | T2: =COUNTIF(T$3:V$10000,"<>"&"") -> 0 | W2: =SUM(W3:W10000) -> 0 | X2: =SUM(X3:X10000) -> 0 | Y2: =SUM(Y3:Y10000) -> 0 | Z2: =SUM(Z3:Z10000) -> 0 | AA2: =SUM(AA3:AA10000) -> 0 | AB2: =SUM(AB3:AB10000) -> 0 | AC2: =SUM(AC3:AC10000) -> 0 | AD2: =SUM(AD3:AD10000) -> 0 | ... AN2: =SUM(AN3:AN10000) -> 0 | AO2: =COUNTIF(AO3:AO10000,"Oui") -> 0 | AP2: =COUNTIF(AP3:AP10000,"Oui") -> 0 | AQ2: =COUNTIF(AQ3:AQ10000,"Oui") -> 0 | AR2: =COUNTIF(AR3:AR10000,"Oui") -> 0 | AS2: =COUNTIF(AS3:AS10000,"Oui") -> 0 | AT2: =COUNTIF(AT3:AT10000,"Oui") -> 0 | AU2: =COUNTIF(AU3:AU10000,"Oui") -> 0 | AV2: =COUNTIF(AV3:AV10000,"Oui") -> 0 | AW2: =SUM(AW3:AW10000) -> 0 | AX2: =SUM(AX3:AX10000) -> 0 | AY2: =SUM(AY3:AY10000) -> 0 | AZ2: =SUM(AZ3:AZ10000) -> 0 | BA2: =SUM(BA3:BA10000) -> 0 | BB2: =SUM(BB3:BB10000) -> 0 | BC2: =SUM(BC3:BC10000) -> 0
AV3: =IF(COUNTIF(AP3:AU3,"Oui") >0,"Oui","Non") -> Non | AW3: =SUM(AE3:AH3) -> 0 | AX3: =SUM(AJ3:AM3) -> 0 | AY3: =IF(AD3>0,100,0) -> 0 | AZ3: =IF(AI3>0,1,0) -> 0 | BA3: =IF(AI3>0,1,0) -> 0 | BB3: =SUM(AY3:BA3) -> 0 | BC3: =IF(AN3>0,BB3,0) -> 0
AV4: =IF(COUNTIF(AP4:AU4,"Oui") >0,"Oui","Non") -> Non | AW4: =SUM(AE4:AH4) -> 0 | AX4: =SUM(AJ4:AM4) -> 0 | AY4: =IF(AD4>0,100,0) -> 0 | AZ4: =IF(AI4>0,1,0) -> 0 | BA4: =IF(AI4>0,1,0) -> 0 | BB4: =SUM(AY4:BA4) -> 0 | BC4: =IF(AN4>0,BB4,0) -> 0
AV5: =IF(COUNTIF(AP5:AU5,"Oui") >0,"Oui","Non") -> Non | AW5: =SUM(AE5:AH5) -> 0 | AX5: =SUM(AJ5:AM5) -> 0 | AY5: =IF(AD5>0,100,0) -> 0 | AZ5: =IF(AI5>0,1,0) -> 0 | BA5: =IF(AI5>0,1,0) -> 0 | BB5: =SUM(AY5:BA5) -> 0 | BC5: =IF(AN5>0,BB5,0) -> 0
AV6: =IF(COUNTIF(AP6:AU6,"Oui") >0,"Oui","Non") -> Non | AW6: =SUM(AE6:AH6) -> 0 | AX6: =SUM(AJ6:AM6) -> 0 | AY6: =IF(AD6>0,100,0) -> 0 | AZ6: =IF(AI6>0,1,0) -> 0 | BA6: =IF(AI6>0,1,0) -> 0 | BB6: =SUM(AY6:BA6) -> 0 | BC6: =IF(AN6>0,BB6,0) -> 0
AV7: =IF(COUNTIF(AP7:AU7,"Oui") >0,"Oui","Non") -> Non | AW7: =SUM(AE7:AH7) -> 0 | AX7: =SUM(AJ7:AM7) -> 0 | AY7: =IF(AD7>0,100,0) -> 0 | AZ7: =IF(AI7>0,1,0) -> 0 | BA7: =IF(AI7>0,1,0) -> 0 | BB7: =SUM(AY7:BA7) -> 0 | BC7: =IF(AN7>0,BB7,0) -> 0
AV8: =IF(COUNTIF(AP8:AU8,"Oui") >0,"Oui","Non") -> Non | AW8: =SUM(AE8:AH8) -> 0 | AX8: =SUM(AJ8:AM8) -> 0 | AY8: =IF(AD8>0,100,0) -> 0 | AZ8: =IF(AI8>0,1,0) -> 0 | BA8: =IF(AI8>0,1,0) -> 0 | BB8: =SUM(AY8:BA8) -> 0 | BC8: =IF(AN8>0,BB8,0) -> 0
AV9: =IF(COUNTIF(AP9:AU9,"Oui") >0,"Oui","Non") -> Non | AW9: =SUM(AE9:AH9) -> 0 | AX9: =SUM(AJ9:AM9) -> 0 | AY9: =IF(AD9>0,100,0) -> 0 | AZ9: =IF(AI9>0,1,0) -> 0 | BA9: =IF(AI9>0,1,0) -> 0 | BB9: =SUM(AY9:BA9) -> 0 | BC9: =IF(AN9>0,BB9,0) -> 0
AV10: =IF(COUNTIF(AP10:AU10,"Oui") >0,"Oui","Non") -> Non | AW10: =SUM(AE10:AH10) -> 0 | AX10: =SUM(AJ10:AM10) -> 0 | AY10: =IF(AD10>0,100,0) -> 0 | AZ10: =IF(AI10>0,1,0) -> 0 | BA10: =IF(AI10>0,1,0) -> 0 | BB10: =SUM(AY10:BA10) -> 0 | BC10: =IF(AN10>0,BB10,0) -> 0
AV11: =IF(COUNTIF(AP11:AU11,"Oui") >0,"Oui","Non") -> Non | AW11: =SUM(AE11:AH11) -> 0 | AX11: =SUM(AJ11:AM11) -> 0 | AY11: =IF(AD11>0,100,0) -> 0 | AZ11: =IF(AI11>0,1,0) -> 0 | BA11: =IF(AI11>0,1,0) -> 0 | BB11: =SUM(AY11:BA11) -> 0 | BC11: =IF(AN11>0,BB11,0) -> 0
AV12: =IF(COUNTIF(AP12:AU12,"Oui") >0,"Oui","Non") -> Non | AW12: =SUM(AE12:AH12) -> 0 | AX12: =SUM(AJ12:AM12) -> 0 | AY12: =IF(AD12>0,100,0) -> 0 | AZ12: =IF(AI12>0,1,0) -> 0 | BA12: =IF(AI12>0,1,0) -> 0 | BB12: =SUM(AY12:BA12) -> 0 | BC12: =IF(AN12>0,BB12,0) -> 0
AV13: =IF(COUNTIF(AP13:AU13,"Oui") >0,"Oui","Non") -> Non | AW13: =SUM(AE13:AH13) -> 0 | AX13: =SUM(AJ13:AM13) -> 0 | AY13: =IF(AD13>0,100,0) -> 0 | AZ13: =IF(AI13>0,1,0) -> 0 | BA13: =IF(AI13>0,1,0) -> 0 | BB13: =SUM(AY13:BA13) -> 0 | BC13: =IF(AN13>0,BB13,0) -> 0
AV14: =IF(COUNTIF(AP14:AU14,"Oui") >0,"Oui","Non") -> Non | AW14: =SUM(AE14:AH14) -> 0 | AX14: =SUM(AJ14:AM14) -> 0 | AY14: =IF(AD14>0,100,0) -> 0 | AZ14: =IF(AI14>0,1,0) -> 0 | BA14: =IF(AI14>0,1,0) -> 0 | BB14: =SUM(AY14:BA14) -> 0 | BC14: =IF(AN14>0,BB14,0) -> 0
... AV1024: =IF(COUNTIF(AP1024:AU1024,"Oui") >0,"Oui","Non") -> Non | AW1024: =SUM(AE1024:AH1024) -> 0 | AX1024: =SUM(AJ1024:AM1024) -> 0 | AY1024: =IF(AD1024>0,100,0) -> 0 | AZ1024: =IF(AI1024>0,1,0) -> 0 | BA1024: =IF(AI1024>0,1,0) -> 0 | BB1024: =SUM(AY1024:BA1024) -> 0 | BC1024: =IF(AN1024>0,BB1024,0) -> 0

Sheet Parcours clients autonomes
A1: Prénom | B1: Nom | C1: Email | D1: Téléphone | E1: Envois de propositions visuelles | F1: Propositions visuelles remplies | G1: Département | J1: Budget | M1: Nombre de personnes | P1: Nombre de chambres | S1: Objectif | V1: Confirmation de connections | W1: Préconnexion | X1: Chargement terminé de page | Y1: Coach | Z1: Ajout Comparateur | AA1: Ajout Like Programme | AB1: Ajout du filtre localisation | AC1: Ouverture page programme | AD1: Ouverture infos supplémentaires | AE1: Ouverture plaquette commerciale | AF1: Ouverture maquette 3D | AG1: Ouverture offre commerciale | AH1: Ouverture page lot | AI1: Ouverture visites virtuelles | AJ1: Ouverture plan 3D | AK1: Ouverture plan pdf | AL1: Ouverture simulation fiscale | AM1: demande_rdv | AN1: Le dynamisme d’un centre-ville | AO1: Des espaces extérieurs confortables | AP1: La proximité des transports | AQ1: Un cadre de vie pour ma famille | AR1: La nature | AS1: Un bureau pour le télétravail | AT1: Un stationnement facile | AU1: Total centre d’interêt | AV1: Total actions programmes | AW1: Total actions lots | AX1: scoring programme | AY1: scoring coach | AZ1: scroring lot | BB1: parcours jusqu'au rdv
A2: =COUNTIF(A3:A10000,"<>"&"") -> 0 | E2: =SUM(E3:E10000) -> 0 | F2: =SUM(F3:F10000) -> 0 | J2: =COUNTIF(J$3:L$10000,"<>"&"") -> 0 | K2: =SUM(J$3:L$10000) -> 0 | M2: =COUNTIF(M$3:O$10000,"<>"&"") -> 0 | P2: =COUNTIF(P$3:R$10000,"<>"&"") -> 0 | S2: =COUNTIF(S$3:U$10000,"<>"&"") -> 0 | V2: =SUM(V3:V10000) -> 0 | W2: =SUM(W3:W10000) -> 0 | X2: =SUM(X3:X10000) -> 0 | Y2: =SUM(Y3:Y10000) -> 0 | Z2: =SUM(Z3:Z10000) -> 0 | AA2: =SUM(AA3:AA10000) -> 0 | AB2: =SUM(AB3:AB10000) -> 0 | AC2: =SUM(AC3:AC10000) -> 0 | ... AM2: =SUM(AM3:AM10000) -> 0 | AN2: =COUNTIF(AN3:AN10000,"Oui") -> 0 | AO2: =COUNTIF(AO3:AO10000,"Oui") -> 0 | AP2: =COUNTIF(AP3:AP10000,"Oui") -> 0 | AQ2: =COUNTIF(AQ3:AQ10000,"Oui") -> 0 | AR2: =COUNTIF(AR3:AR10000,"Oui") -> 0 | AS2: =COUNTIF(AS3:AS10000,"Oui") -> 0 | AT2: =COUNTIF(AT3:AT10000,"Oui") -> 0 | AU2: =COUNTIF(AU3:AU10000,"Oui") -> 0 | AV2: =SUM(AV3:AV10000) -> 0 | AW2: =SUM(AW3:AW10000) -> 0 | AX2: =SUM(AX3:AX10000) -> 0 | AY2: =SUM(AY3:AY10000) -> 0 | AZ2: =SUM(AZ3:AZ10000) -> 0 | BA2: =SUM(BA3:BA10000) -> 0 | BB2: =SUM(BB3:BB10000) -> 0
AU3: =IF(COUNTIF(AO3:AT3,"Oui") >0,"Oui","Non") -> Non | AV3: =SUM(AD3:AG3) -> 0 | AW3: =SUM(AI3:AL3) -> 0 | AX3: =IF(AC3>0,100,0) -> 0 | AY3: =IF(AH3>0,1,0) -> 0 | AZ3: =IF(AH3>0,1,0) -> 0 | BA3: =SUM(AX3:AZ3) -> 0 | BB3: =IF(AM3>0,BA3,0) -> 0
AU4: =IF(COUNTIF(AO4:AT4,"Oui") >0,"Oui","Non") -> Non | AV4: =SUM(AD4:AG4) -> 0 | AW4: =SUM(AI4:AL4) -> 0 | AX4: =IF(AC4>0,100,0) -> 0 | AY4: =IF(AH4>0,1,0) -> 0 | AZ4: =IF(AH4>0,1,0) -> 0 | BA4: =SUM(AX4:AZ4) -> 0 | BB4: =IF(AM4>0,BA4,0) -> 0
AU5: =IF(COUNTIF(AO5:AT5,"Oui") >0,"Oui","Non") -> Non | AV5: =SUM(AD5:AG5) -> 0 | AW5: =SUM(AI5:AL5) -> 0 | AX5: =IF(AC5>0,100,0) -> 0 | AY5: =IF(AH5>0,1,0) -> 0 | AZ5: =IF(AH5>0,1,0) -> 0 | BA5: =SUM(AX5:AZ5) -> 0 | BB5: =IF(AM5>0,BA5,0) -> 0
AU6: =IF(COUNTIF(AO6:AT6,"Oui") >0,"Oui","Non") -> Non | AV6: =SUM(AD6:AG6) -> 0 | AW6: =SUM(AI6:AL6) -> 0 | AX6: =IF(AC6>0,100,0) -> 0 | AY6: =IF(AH6>0,1,0) -> 0 | AZ6: =IF(AH6>0,1,0) -> 0 | BA6: =SUM(AX6:AZ6) -> 0 | BB6: =IF(AM6>0,BA6,0) -> 0
AU7: =IF(COUNTIF(AO7:AT7,"Oui") >0,"Oui","Non") -> Non | AV7: =SUM(AD7:AG7) -> 0 | AW7: =SUM(AI7:AL7) -> 0 | AX7: =IF(AC7>0,100,0) -> 0 | AY7: =IF(AH7>0,1,0) -> 0 | AZ7: =IF(AH7>0,1,0) -> 0 | BA7: =SUM(AX7:AZ7) -> 0 | BB7: =IF(AM7>0,BA7,0) -> 0
AU8: =IF(COUNTIF(AO8:AT8,"Oui") >0,"Oui","Non") -> Non | AV8: =SUM(AD8:AG8) -> 0 | AW8: =SUM(AI8:AL8) -> 0 | AX8: =IF(AC8>0,100,0) -> 0 | AY8: =IF(AH8>0,1,0) -> 0 | AZ8: =IF(AH8>0,1,0) -> 0 | BA8: =SUM(AX8:AZ8) -> 0 | BB8: =IF(AM8>0,BA8,0) -> 0
AU9: =IF(COUNTIF(AO9:AT9,"Oui") >0,"Oui","Non") -> Non | AV9: =SUM(AD9:AG9) -> 0 | AW9: =SUM(AI9:AL9) -> 0 | AX9: =IF(AC9>0,100,0) -> 0 | AY9: =IF(AH9>0,1,0) -> 0 | AZ9: =IF(AH9>0,1,0) -> 0 | BA9: =SUM(AX9:AZ9) -> 0 | BB9: =IF(AM9>0,BA9,0) -> 0
AU10: =IF(COUNTIF(AO10:AT10,"Oui") >0,"Oui","Non") -> Non | AV10: =SUM(AD10:AG10) -> 0 | AW10: =SUM(AI10:AL10) -> 0 | AX10: =IF(AC10>0,100,0) -> 0 | AY10: =IF(AH10>0,1,0) -> 0 | AZ10: =IF(AH10>0,1,0) -> 0 | BA10: =SUM(AX10:AZ10) -> 0 | BB10: =IF(AM10>0,BA10,0) -> 0
AU11: =IF(COUNTIF(AO11:AT11,"Oui") >0,"Oui","Non") -> Non | AV11: =SUM(AD11:AG11) -> 0 | AW11: =SUM(AI11:AL11) -> 0 | AX11: =IF(AC11>0,100,0) -> 0 | AY11: =IF(AH11>0,1,0) -> 0 | AZ11: =IF(AH11>0,1,0) -> 0 | BA11: =SUM(AX11:AZ11) -> 0 | BB11: =IF(AM11>0,BA11,0) -> 0
AU12: =IF(COUNTIF(AO12:AT12,"Oui") >0,"Oui","Non") -> Non | AV12: =SUM(AD12:AG12) -> 0 | AW12: =SUM(AI12:AL12) -> 0 | AX12: =IF(AC12>0,100,0) -> 0 | AY12: =IF(AH12>0,1,0) -> 0 | AZ12: =IF(AH12>0,1,0) -> 0 | BA12: =SUM(AX12:AZ12) -> 0 | BB12: =IF(AM12>0,BA12,0) -> 0
AU13: =IF(COUNTIF(AO13:AT13,"Oui") >0,"Oui","Non") -> Non | AV13: =SUM(AD13:AG13) -> 0 | AW13: =SUM(AI13:AL13) -> 0 | AX13: =IF(AC13>0,100,0) -> 0 | AY13: =IF(AH13>0,1,0) -> 0 | AZ13: =IF(AH13>0,1,0) -> 0 | BA13: =SUM(AX13:AZ13) -> 0 | BB13: =IF(AM13>0,BA13,0) -> 0
AU14: =IF(COUNTIF(AO14:AT14,"Oui") >0,"Oui","Non") -> Non | AV14: =SUM(AD14:AG14) -> 0 | AW14: =SUM(AI14:AL14) -> 0 | AX14: =IF(AC14>0,100,0) -> 0 | AY14: =IF(AH14>0,1,0) -> 0 | AZ14: =IF(AH14>0,1,0) -> 0 | BA14: =SUM(AX14:AZ14) -> 0 | BB14: =IF(AM14>0,BA14,0) -> 0
... AU1024: =IF(COUNTIF(AO1024:AT1024,"Oui") >0,"Oui","Non") -> Non | AV1024: =SUM(AD1024:AG1024) -> 0 | AW1024: =SUM(AI1024:AL1024) -> 0 | AX1024: =IF(AC1024>0,100,0) -> 0 | AY1024: =IF(AH1024>0,1,0) -> 0 | AZ1024: =IF(AH1024>0,1,0) -> 0 | BA1024: =SUM(AX1024:AZ1024) -> 0 | BB1024: =IF(AM1024>0,BA1024,0) -> 0

Sheet Parcours vendeurs
A1: Prénom | B1: Nom | C1: Email | D1: Envois de propositions visuelles | E1: Propositions visuelles remplies | F1: Prospects | G1: Préconnexion | H1: Chargement terminé de page | I1: Coach | J1: Ajout Comparateur | K1: Ajout Like Programme | L1: Ajout du filtre localisation | M1: Ouverture page programme | N1: Ouverture infos supplémentaires | O1: Ouverture plaquette commerciale | P1: Ouverture maquette 3D | Q1: Ouverture offre commerciale | R1: Ouverture page lot | S1: Ouverture visites virtuelles | T1: Ouverture plan 3D | U1: Ouverture plan pdf | V1: Ouverture simulation fiscale | W1: demande_rdv | X1: Le dynamisme d’un centre-ville | Y1: Des espaces extérieurs confortables | Z1: La proximité des transports | AA1: Un cadre de vie pour ma famille | AB1: La nature | AC1: Un bureau pour le télétravail | AD1: Un stationnement facile | AE1: Un stationnement facile | AF1: Total centre d’interêt | AG1: Total actions programmes | AH1: Total actions lots
A2: =COUNTIF(A3:A10000,"<>"&"") -> 0 | D2: =SUM(D3:D998) -> 0 | E2: =SUM(E3:E998) -> 0 | F2: =SUM(F3:F998) -> 0 | G2: =SUM(G3:G998) -> 0 | H2: =SUM(H3:H998) -> 0 | I2: =SUM(I3:I998) -> 0 | J2: =SUM(J3:J998) -> 0 | K2: =SUM(K3:K998) -> 0 | ... X2: =SUM(X3:X998) -> 0 | AF2: =COUNTIF(AF3:AF999,"Oui") -> 0 | AG2: =SUM(AG3:AG998) -> 0 | AH2: =SUM(AH3:AH998) -> 0 | AI2: Total
AF3: =IF(COUNTIF(Y3:AE3,"Oui") >0,"Oui","Non") -> Non | AG3: =SUM(N3:Q3) -> 0 | AH3: =SUM(S3:V3) -> 0
AF4: =IF(COUNTIF(Y4:AE4,"Oui") >0,"Oui","Non") -> Non | AG4: =SUM(N4:Q4) -> 0 | AH4: =SUM(S4:V4) -> 0
AF5: =IF(COUNTIF(Y5:AE5,"Oui") >0,"Oui","Non") -> Non | AG5: =SUM(N5:Q5) -> 0 | AH5: =SUM(S5:V5) -> 0
AF6: =IF(COUNTIF(Y6:AE6,"Oui") >0,"Oui","Non") -> Non | AG6: =SUM(N6:Q6) -> 0 | AH6: =SUM(S6:V6) -> 0
AF7: =IF(COUNTIF(Y7:AE7,"Oui") >0,"Oui","Non") -> Non | AG7: =SUM(N7:Q7) -> 0 | AH7: =SUM(S7:V7) -> 0
AF8: =IF(COUNTIF(Y8:AE8,"Oui") >0,"Oui","Non") -> Non | AG8: =SUM(N8:Q8) -> 0 | AH8: =SUM(S8:V8) -> 0
AF9: =IF(COUNTIF(Y9:AE9,"Oui") >0,"Oui","Non") -> Non | AG9: =SUM(N9:Q9) -> 0 | AH9: =SUM(S9:V9) -> 0
AF10: =IF(COUNTIF(Y10:AE10,"Oui") >0,"Oui","Non") -> Non | AG10: =SUM(N10:Q10) -> 0 | AH10: =SUM(S10:V10) -> 0
AF11: =IF(COUNTIF(Y11:AE11,"Oui") >0,"Oui","Non") -> Non | AG11: =SUM(N11:Q11) -> 0 | AH11: =SUM(S11:V11) -> 0
AF12: =IF(COUNTIF(Y12:AE12,"Oui") >0,"Oui","Non") -> Non | AG12: =SUM(N12:Q12) -> 0 | AH12: =SUM(S12:V12) -> 0
AF13: =IF(COUNTIF(Y13:AE13,"Oui") >0,"Oui","Non") -> Non | AG13: =SUM(N13:Q13) -> 0 | AH13: =SUM(S13:V13) -> 0
AF14: =IF(COUNTIF(Y14:AE14,"Oui") >0,"Oui","Non") -> Non | AG14: =SUM(N14:Q14) -> 0 | AH14: =SUM(S14:V14) -> 0
... AF1023: =IF(COUNTIF(Y1023:AE1023,"Oui") >0,"Oui","Non") -> Non | AG1023: =SUM(N1023:Q1023) -> 0 | AH1023: =SUM(S1023:V1023) -> 0

Sheet Historique des connections
A1: Prénom | B1: Nom | C1: Email | D1: Envois de propositions visuelles | E1: Propositions visuelles remplies | F1: Prospects | G1: Nb sessions
D2: =SUM(D3:D10000) -> 0 | E2: =SUM(E3:E10000) -> 0 | F2: =SUM(F3:F10000) -> 0 | G2: =SUM(G3:G10000) -> 0 | H2: =SUM(H3:H10000) -> 0 | I2: =SUM(I3:I10000) -> 0 | J2: =SUM(J3:J10000) -> 0 | K2: =SUM(K3:K10000) -> 0 | ... CS2: =SUM(CS3:CS10000) -> 0 | CT2: =SUM(CT3:CT1000) -> 0 | CU2: =SUM(CU3:CU1000) -> 0 | CV2: =SUM(CV3:CV1000) -> 0 | CW2: =SUM(CW3:CW1000) -> 0 | CX2: =SUM(CX3:CX1000) -> 0 | CY2: =SUM(CY3:CY1000) -> 0 | CZ2: =SUM(CZ3:CZ1000) -> 0 | DA2: =SUM(DA3:DA1000) -> 0 | ... FF2: =SUM(FF3:FF1000) -> 0
G3: =SUM(H3:DF3) -> 0
G4: =SUM(H4:DF4) -> 0
G5: =SUM(H5:DF5) -> 0
G6: =SUM(H6:DF6) -> 0
G7: =SUM(H7:DF7) -> 0
G8: =SUM(H8:DF8) -> 0
G9: =SUM(H9:DF9) -> 0
G10: =SUM(H10:DF10) -> 0
G11: =SUM(H11:DF11) -> 0
G12: =SUM(H12:DF12) -> 0
G13: =SUM(H13:DF13) -> 0
G14: =SUM(H14:DF14) -> 0
... G1000: =SUM(H1000:DF1000) -> 0
